BEGIN:VCALENDAR
VERSION:2.0
PRODID:SchoolNow
CALSCALE:GREGORIAN
BEGIN:VEVENT
UID:51f009fc-358f-11f1-9c7d-0a58a9feac02
DTSTAMP:20260421T194011Z
SUMMARY:Teacher Institute Day - No Student Attendance
URL;VALUE=URI:https://www.cusd201.org/manning/calendar/8986017/teacher-inst
 itute-day-no-student-attendance
DTSTART;VALUE=DATE:20260817
DTEND;VALUE=DATE:20260818
END:VEVENT
END:VCALENDAR
