BEGIN:VCALENDAR
VERSION:2.0
PRODID:SchoolNow
CALSCALE:GREGORIAN
BEGIN:VEVENT
UID:51f00cc2-358f-11f1-9469-0a58a9feac02
DTSTAMP:20260421T194011Z
SUMMARY:No School - Thanksgiving Break
URL;VALUE=URI:https://www.cusd201.org/manning/calendar/8986020/no-school-th
 anksgiving-break
DTSTART;VALUE=DATE:20261126
DTEND;VALUE=DATE:20261127
END:VEVENT
END:VCALENDAR
