BEGIN:VCALENDAR
VERSION:2.0
PRODID:SchoolNow
CALSCALE:GREGORIAN
BEGIN:VEVENT
UID:51fd4018-358f-11f1-aafe-0a58a9feac02
DTSTAMP:20260421T194010Z
SUMMARY:PLC Dismissal Times (Check with your Building for time)
URL;VALUE=URI:https://www.cusd201.org/manning/calendar/8986031/plc-dismissa
 l-times-check-with-your-building-for-time
DTSTART;VALUE=DATE:20261028
DTEND;VALUE=DATE:20261029
END:VEVENT
END:VCALENDAR
