BEGIN:VCALENDAR
VERSION:2.0
PRODID:SchoolNow
CALSCALE:GREGORIAN
BEGIN:VEVENT
UID:51fd475c-358f-11f1-a9e9-0a58a9feac02
DTSTAMP:20260422T014512Z
SUMMARY:PLC Dismissal Times (Check with your Building for time)
URL;VALUE=URI:https://www.cusd201.org/manning/calendar/8986039/plc-dismissa
 l-times-check-with-your-building-for-time
DTSTART;VALUE=DATE:20270113
DTEND;VALUE=DATE:20270114
END:VEVENT
END:VCALENDAR
