BEGIN:VCALENDAR
VERSION:2.0
PRODID:SchoolNow
CALSCALE:GREGORIAN
BEGIN:VEVENT
UID:51fd4ce8-358f-11f1-9b0c-0a58a9feac02
DTSTAMP:20260422T014512Z
SUMMARY:PLC Dismissal Times (Check with your Building for time)
URL;VALUE=URI:https://www.cusd201.org/manning/calendar/8986044/plc-dismissa
 l-times-check-with-your-building-for-time
DTSTART;VALUE=DATE:20270224
DTEND;VALUE=DATE:20270225
END:VEVENT
END:VCALENDAR
