BEGIN:VCALENDAR
VERSION:2.0
PRODID:SchoolNow
CALSCALE:GREGORIAN
BEGIN:VEVENT
UID:51fd55da-358f-11f1-841e-0a58a9feac02
DTSTAMP:20260422T075010Z
SUMMARY:PLC Dismissal Times (Check with your Building for time)
URL;VALUE=URI:https://www.cusd201.org/manning/calendar/8986050/plc-dismissa
 l-times-check-with-your-building-for-time
DTSTART;VALUE=DATE:20270421
DTEND;VALUE=DATE:20270422
END:VEVENT
END:VCALENDAR
