BEGIN:VCALENDAR
VERSION:2.0
PRODID:SchoolNow
CALSCALE:GREGORIAN
BEGIN:VEVENT
UID:51fd63a4-358f-11f1-bfda-0a58a9feac02
DTSTAMP:20260422T014512Z
SUMMARY:No School - Winter Break
URL;VALUE=URI:https://www.cusd201.org/manning/calendar/8986064/no-school-wi
 nter-break
DTSTART;VALUE=DATE:20261226
DTEND;VALUE=DATE:20261227
END:VEVENT
END:VCALENDAR
