BEGIN:VCALENDAR
VERSION:2.0
PRODID:SchoolNow
CALSCALE:GREGORIAN
BEGIN:VEVENT
UID:51fd6638-358f-11f1-b0aa-0a58a9feac02
DTSTAMP:20260422T014512Z
SUMMARY:No School - Winter Break
URL;VALUE=URI:https://www.cusd201.org/manning/calendar/8986067/no-school-wi
 nter-break
DTSTART;VALUE=DATE:20261229
DTEND;VALUE=DATE:20261230
END:VEVENT
END:VCALENDAR
