BEGIN:VCALENDAR
VERSION:2.0
PRODID:SchoolNow
CALSCALE:GREGORIAN
BEGIN:VEVENT
UID:4deffafe-35f5-11f1-b7df-0e205002dddb
DTSTAMP:20260422T014512Z
SUMMARY:No School - Presidents Day
URL;VALUE=URI:https://www.cusd201.org/manning/calendar/8987150/no-school-pr
 esidents-day
DTSTART;VALUE=DATE:20270215
DTEND;VALUE=DATE:20270216
END:VEVENT
END:VCALENDAR
