BEGIN:VCALENDAR
VERSION:2.0
PRODID:SchoolNow
CALSCALE:GREGORIAN
BEGIN:VEVENT
UID:4df01cb4-35f5-11f1-8b0e-0e205002dddb
DTSTAMP:20260422T014511Z
SUMMARY:SIP Day - Early Dismissal - Check w/school for times
URL;VALUE=URI:https://www.cusd201.org/manning/calendar/8987151/sip-day-earl
 y-dismissal-check-w-school-for-times
DTSTART;VALUE=DATE:20270210
DTEND;VALUE=DATE:20270211
END:VEVENT
END:VCALENDAR
