BEGIN:VCALENDAR
VERSION:2.0
PRODID:SchoolNow
CALSCALE:GREGORIAN
BEGIN:VEVENT
UID:4df02038-35f5-11f1-a1a3-0e205002dddb
DTSTAMP:20260422T014511Z
SUMMARY:No School - Martin Luther King Jr. Day
URL;VALUE=URI:https://www.cusd201.org/manning/calendar/8987152/no-school-ma
 rtin-luther-king-jr-day
DTSTART;VALUE=DATE:20270118
DTEND;VALUE=DATE:20270119
END:VEVENT
END:VCALENDAR
