BEGIN:VCALENDAR
VERSION:2.0
PRODID:SchoolNow
CALSCALE:GREGORIAN
BEGIN:VEVENT
UID:4df02394-35f5-11f1-b520-0e205002dddb
DTSTAMP:20260422T014511Z
SUMMARY:Kindness Day Celebrations
URL;VALUE=URI:https://www.cusd201.org/manning/calendar/8987153/kindness-day
 -celebrations
DTSTART:20270212T182000Z
DTEND:20270212T203000Z
END:VEVENT
END:VCALENDAR
