BEGIN:VCALENDAR
VERSION:2.0
PRODID:SchoolNow
CALSCALE:GREGORIAN
BEGIN:VEVENT
UID:4e7ecb30-35f5-11f1-9777-0e205002dddb
DTSTAMP:20260422T014511Z
SUMMARY:P/T Conferences - No Student Attendance
URL;VALUE=URI:https://www.cusd201.org/manning/calendar/8987154/p-t-conferen
 ces-no-student-attendance
DTSTART;VALUE=DATE:20270225
DTEND;VALUE=DATE:20270226
END:VEVENT
END:VCALENDAR
