BEGIN:VCALENDAR
VERSION:2.0
PRODID:SchoolNow
CALSCALE:GREGORIAN
BEGIN:VEVENT
UID:4e7ecfb8-35f5-11f1-9f33-0e205002dddb
DTSTAMP:20260422T014511Z
SUMMARY:Institute Day - No Student Attendance
URL;VALUE=URI:https://www.cusd201.org/manning/calendar/8987155/institute-da
 y-no-student-attendance
DTSTART;VALUE=DATE:20270226
DTEND;VALUE=DATE:20270227
END:VEVENT
END:VCALENDAR
