BEGIN:VCALENDAR
VERSION:2.0
PRODID:SchoolNow
CALSCALE:GREGORIAN
BEGIN:VEVENT
UID:4a2d9ba0-3628-11f1-abc7-0a58a9feac02
DTSTAMP:20260422T014511Z
SUMMARY:Start Q4
URL;VALUE=URI:https://www.cusd201.org/manning/calendar/8987736/start-q4
DTSTART;VALUE=DATE:20270315
DTEND;VALUE=DATE:20270316
END:VEVENT
END:VCALENDAR
