BEGIN:VCALENDAR
VERSION:2.0
PRODID:SchoolNow
CALSCALE:GREGORIAN
BEGIN:VEVENT
UID:4a2dd7b4-3628-11f1-80c7-0a58a9feac02
DTSTAMP:20260421T194010Z
SUMMARY:Elementary Math Night
LOCATION:J T Manning Elementary School\, 200 N Linden Ave\, Westmont\, IL 6
 0559\, USA\, Manning-L-17 - Cafeteria (200)\, Manning-L-12 - STEM Room (40
 )\, Manning-1-100 - Library (50)\, Manning-1-121 - Gym (350)
URL;VALUE=URI:https://www.cusd201.org/manning/calendar/8987737/elementary-m
 ath-night
DTSTART:20261014T230000Z
DTEND:20261015T000000Z
END:VEVENT
END:VCALENDAR
