BEGIN:VCALENDAR
VERSION:2.0
PRODID:SchoolNow
CALSCALE:GREGORIAN
BEGIN:VEVENT
UID:4a2dda7a-3628-11f1-a8f5-0a58a9feac02
DTSTAMP:20260421T194010Z
SUMMARY:Start Q2
URL;VALUE=URI:https://www.cusd201.org/manning/calendar/8987738/start-q2
DTSTART;VALUE=DATE:20261019
DTEND;VALUE=DATE:20261020
END:VEVENT
END:VCALENDAR
