BEGIN:VCALENDAR
VERSION:2.0
PRODID:SchoolNow
CALSCALE:GREGORIAN
BEGIN:VEVENT
UID:4a2ddc28-3628-11f1-8076-0a58a9feac02
DTSTAMP:20260422T014511Z
SUMMARY:Manning 2nd-3rd Gr Concert
LOCATION:Westmont High School\, 909 Oakwood Dr\, Westmont\, IL 60559\, USA\
 , WHS-1-175 - Auditorium (700)
URL;VALUE=URI:https://www.cusd201.org/manning/calendar/8987739/manning-2nd-
 3rd-gr-concert
DTSTART:20270305T000000Z
DTEND:20270305T020000Z
END:VEVENT
END:VCALENDAR
