BEGIN:VCALENDAR
VERSION:2.0
PRODID:SchoolNow
CALSCALE:GREGORIAN
BEGIN:VEVENT
UID:4a84e806-3628-11f1-a0f1-0a58a9feac02
DTSTAMP:20260422T014511Z
SUMMARY:Start Q3/S2
URL;VALUE=URI:https://www.cusd201.org/manning/calendar/8987740/start-q3-s2
DTSTART;VALUE=DATE:20270105
DTEND;VALUE=DATE:20270106
END:VEVENT
END:VCALENDAR
