BEGIN:VCALENDAR
VERSION:2.0
PRODID:SchoolNow
CALSCALE:GREGORIAN
BEGIN:VEVENT
UID:4a84eb80-3628-11f1-8e51-0a58a9feac02
DTSTAMP:20260422T014512Z
SUMMARY:End Q3
URL;VALUE=URI:https://www.cusd201.org/manning/calendar/8987741/end-q3
DTSTART;VALUE=DATE:20270312
DTEND;VALUE=DATE:20270313
END:VEVENT
END:VCALENDAR
