BEGIN:VCALENDAR
VERSION:2.0
PRODID:SchoolNow
CALSCALE:GREGORIAN
BEGIN:VEVENT
UID:4a84ed24-3628-11f1-9253-0a58a9feac02
DTSTAMP:20260422T014511Z
SUMMARY:SIP Day - Early Dismissal - Check w/school for times
URL;VALUE=URI:https://www.cusd201.org/manning/calendar/8987742/sip-day-earl
 y-dismissal-check-w-school-for-times
DTSTART;VALUE=DATE:20270310
DTEND;VALUE=DATE:20270311
END:VEVENT
END:VCALENDAR
