BEGIN:VCALENDAR
VERSION:2.0
PRODID:SchoolNow
CALSCALE:GREGORIAN
BEGIN:VEVENT
UID:4a84ef36-3628-11f1-b200-0a58a9feac02
DTSTAMP:20260422T014511Z
SUMMARY:STEM Night 2027
LOCATION:Westmont High School\, 909 Oakwood Dr\, Westmont\, IL 60559\, USA\
 , WHS-1-175 - Auditorium (700)\, WHS-1-Commons (500)
URL;VALUE=URI:https://www.cusd201.org/manning/calendar/8987743/stem-night-2
 027
DTSTART:20270311T000000Z
DTEND:20270311T020000Z
END:VEVENT
END:VCALENDAR
