BEGIN:VCALENDAR
VERSION:2.0
PRODID:SchoolNow
CALSCALE:GREGORIAN
BEGIN:VEVENT
UID:4a8c6496-3628-11f1-b357-0a58a9feac02
DTSTAMP:20260421T133510Z
SUMMARY:Manning STEM Summer Program
LOCATION:J T Manning Elementary School\, 200 N Linden Ave\, Westmont\, IL 6
 0559\, USA
URL;VALUE=URI:https://www.cusd201.org/manning/calendar/8987756/manning-stem
 -summer-program
DTSTART;VALUE=DATE:20260622
DTEND;VALUE=DATE:20260623
END:VEVENT
END:VCALENDAR
