BEGIN:VCALENDAR
VERSION:2.0
PRODID:SchoolNow
CALSCALE:GREGORIAN
BEGIN:VEVENT
UID:4a8c6d6a-3628-11f1-bd94-0a58a9feac02
DTSTAMP:20260421T133510Z
SUMMARY:Elementary Summer School + Extended School Year (ESY)
URL;VALUE=URI:https://www.cusd201.org/manning/calendar/8987763/elementary-s
 ummer-school-extended-school-year-esy
DTSTART;VALUE=DATE:20260604
DTEND;VALUE=DATE:20260605
END:VEVENT
END:VCALENDAR
