BEGIN:VCALENDAR
VERSION:2.0
PRODID:SchoolNow
CALSCALE:GREGORIAN
BEGIN:VEVENT
UID:47df0680-365b-11f1-8bb1-0afff94b4b49
DTSTAMP:20260422T014511Z
SUMMARY:District 201 Fine Arts Festival
LOCATION:Westmont High School\, 909 Oakwood Dr\, Westmont\, IL 60559\, USA\
 , WHS-1-175 - Auditorium (700)\, WHS-1-Commons (500)
URL;VALUE=URI:https://www.cusd201.org/manning/calendar/8988297/district-201
 -fine-arts-festival
DTSTART:20270324T233000Z
DTEND:20270325T013000Z
END:VEVENT
END:VCALENDAR
