BEGIN:VCALENDAR
VERSION:2.0
PRODID:SchoolNow
CALSCALE:GREGORIAN
BEGIN:VEVENT
UID:47df07a2-365b-11f1-a3c1-0afff94b4b49
DTSTAMP:20260422T075009Z
SUMMARY:SIP Day - Early Dismissal - Check w/school for times
URL;VALUE=URI:https://www.cusd201.org/manning/calendar/8988298/sip-day-earl
 y-dismissal-check-w-school-for-times
DTSTART;VALUE=DATE:20270428
DTEND;VALUE=DATE:20270429
END:VEVENT
END:VCALENDAR
