BEGIN:VCALENDAR
VERSION:2.0
PRODID:SchoolNow
CALSCALE:GREGORIAN
BEGIN:VEVENT
UID:47e8f38e-365b-11f1-a9b4-0afff94b4b49
DTSTAMP:20260422T014512Z
SUMMARY:No School - Spring Break
URL;VALUE=URI:https://www.cusd201.org/manning/calendar/8988304/no-school-sp
 ring-break
DTSTART;VALUE=DATE:20270326
DTEND;VALUE=DATE:20270327
END:VEVENT
END:VCALENDAR
