BEGIN:VCALENDAR
VERSION:2.0
PRODID:SchoolNow
CALSCALE:GREGORIAN
BEGIN:VEVENT
UID:47e8f78a-365b-11f1-8ba3-0afff94b4b49
DTSTAMP:20260422T014512Z
SUMMARY:No School - Spring Break
URL;VALUE=URI:https://www.cusd201.org/manning/calendar/8988305/no-school-sp
 ring-break
DTSTART;VALUE=DATE:20270327
DTEND;VALUE=DATE:20270328
END:VEVENT
END:VCALENDAR
