BEGIN:VCALENDAR
VERSION:2.0
PRODID:SchoolNow
CALSCALE:GREGORIAN
BEGIN:VEVENT
UID:47e8fc76-365b-11f1-a977-0afff94b4b49
DTSTAMP:20260422T014512Z
SUMMARY:No School - Spring Break
URL;VALUE=URI:https://www.cusd201.org/manning/calendar/8988309/no-school-sp
 ring-break
DTSTART;VALUE=DATE:20270331
DTEND;VALUE=DATE:20270401
END:VEVENT
END:VCALENDAR
