BEGIN:VCALENDAR
VERSION:2.0
PRODID:SchoolNow
CALSCALE:GREGORIAN
BEGIN:VEVENT
UID:47e8fd66-365b-11f1-bfc1-0afff94b4b49
DTSTAMP:20260422T075010Z
SUMMARY:No School - Spring Break
URL;VALUE=URI:https://www.cusd201.org/manning/calendar/8988310/no-school-sp
 ring-break
DTSTART;VALUE=DATE:20270401
DTEND;VALUE=DATE:20270402
END:VEVENT
END:VCALENDAR
