BEGIN:VCALENDAR
VERSION:2.0
PRODID:SchoolNow
CALSCALE:GREGORIAN
BEGIN:VEVENT
UID:47e8ff3c-365b-11f1-9464-0afff94b4b49
DTSTAMP:20260422T075010Z
SUMMARY:No School - Spring Break
URL;VALUE=URI:https://www.cusd201.org/manning/calendar/8988312/no-school-sp
 ring-break
DTSTART;VALUE=DATE:20270403
DTEND;VALUE=DATE:20270404
END:VEVENT
END:VCALENDAR
