BEGIN:VCALENDAR
VERSION:2.0
PRODID:SchoolNow
CALSCALE:GREGORIAN
BEGIN:VEVENT
UID:c533b7e0-f3d4-11ef-aa15-0e8efa5b2bb7
DTSTAMP:20251216T154524Z
SUMMARY:Picture Day
URL;VALUE=URI:https://www.cusd201.org/miller/calendar/7549455/picture-day
DTSTART;VALUE=DATE:20250911
DTEND;VALUE=DATE:20250912
END:VEVENT
END:VCALENDAR
