BEGIN:VCALENDAR
VERSION:2.0
PRODID:SchoolNow
CALSCALE:GREGORIAN
BEGIN:VEVENT
UID:c1589a52-f46d-11ef-b6fe-0ee60c5eac8b
DTSTAMP:20251216T154524Z
SUMMARY:Picture Retakes
URL;VALUE=URI:https://www.cusd201.org/miller/calendar/7554987/picture-retak
 es
DTSTART:20251022T133000Z
DTEND:20251022T143000Z
END:VEVENT
END:VCALENDAR
