BEGIN:VCALENDAR
VERSION:2.0
PRODID:SchoolNow
CALSCALE:GREGORIAN
BEGIN:VEVENT
UID:04688a42-2c35-11f0-91de-0afff3ac5a85
DTSTAMP:20251216T154524Z
SUMMARY:No School - Columbus/Indigenous Peoples Day
URL;VALUE=URI:https://www.cusd201.org/miller/calendar/8091603/no-school-col
 umbus-indigenous-peoples-day
DTSTART;VALUE=DATE:20251013
DTEND;VALUE=DATE:20251014
END:VEVENT
END:VCALENDAR
