BEGIN:VCALENDAR
VERSION:2.0
PRODID:SchoolNow
CALSCALE:GREGORIAN
BEGIN:VEVENT
UID:04688bdc-2c35-11f0-a6ca-0afff3ac5a85
DTSTAMP:20251216T154524Z
SUMMARY:School Improvement Day
URL;VALUE=URI:https://www.cusd201.org/miller/calendar/8091604/school-improv
 ement-day
DTSTART;VALUE=DATE:20251008
DTEND;VALUE=DATE:20251009
END:VEVENT
END:VCALENDAR
