BEGIN:VCALENDAR
VERSION:2.0
PRODID:SchoolNow
CALSCALE:GREGORIAN
BEGIN:VEVENT
UID:04688cea-2c35-11f0-a143-0afff3ac5a85
DTSTAMP:20251216T154524Z
SUMMARY:Parent Teacher Conferences - No Student Attendance
URL;VALUE=URI:https://www.cusd201.org/miller/calendar/8091605/parent-teache
 r-conferences-no-student-attendance
DTSTART:20251009T173000Z
DTEND:20251010T010000Z
END:VEVENT
END:VCALENDAR
