BEGIN:VCALENDAR
VERSION:2.0
PRODID:SchoolNow
CALSCALE:GREGORIAN
BEGIN:VEVENT
UID:04688de4-2c35-11f0-a3d2-0afff3ac5a85
DTSTAMP:20251216T154524Z
SUMMARY:No School
URL;VALUE=URI:https://www.cusd201.org/miller/calendar/8091606/no-school
DTSTART;VALUE=DATE:20251010
DTEND;VALUE=DATE:20251011
END:VEVENT
END:VCALENDAR
