BEGIN:VCALENDAR
VERSION:2.0
PRODID:SchoolNow
CALSCALE:GREGORIAN
BEGIN:VEVENT
UID:04688ed4-2c35-11f0-b26f-0afff3ac5a85
DTSTAMP:20251216T154524Z
SUMMARY:No School - Labor Day
URL;VALUE=URI:https://www.cusd201.org/miller/calendar/8091607/no-school-lab
 or-day
DTSTART;VALUE=DATE:20250901
DTEND;VALUE=DATE:20250902
END:VEVENT
END:VCALENDAR
