BEGIN:VCALENDAR
VERSION:2.0
PRODID:SchoolNow
CALSCALE:GREGORIAN
BEGIN:VEVENT
UID:04689532-2c35-11f0-a6cf-0afff3ac5a85
DTSTAMP:20251216T154524Z
SUMMARY:No School - Thanksgiving Break
URL;VALUE=URI:https://www.cusd201.org/miller/calendar/8091610/no-school-tha
 nksgiving-break
DTSTART;VALUE=DATE:20251128
DTEND;VALUE=DATE:20251129
END:VEVENT
END:VCALENDAR
