BEGIN:VCALENDAR
VERSION:2.0
PRODID:SchoolNow
CALSCALE:GREGORIAN
BEGIN:VEVENT
UID:ffb8fbca-2c67-11f0-975d-0a58a9feac02
DTSTAMP:20251216T154524Z
SUMMARY:School Improvement Day
URL;VALUE=URI:https://www.cusd201.org/miller/calendar/8093493/school-improv
 ement-day
DTSTART;VALUE=DATE:20260211
DTEND;VALUE=DATE:20260212
END:VEVENT
END:VCALENDAR
