BEGIN:VCALENDAR
VERSION:2.0
PRODID:SchoolNow
CALSCALE:GREGORIAN
BEGIN:VEVENT
UID:ffb8fcc4-2c67-11f0-95dc-0a58a9feac02
DTSTAMP:20251216T154524Z
SUMMARY:No School - Presidents Day
URL;VALUE=URI:https://www.cusd201.org/miller/calendar/8093494/no-school-pre
 sidents-day
DTSTART;VALUE=DATE:20260216
DTEND;VALUE=DATE:20260217
END:VEVENT
END:VCALENDAR
