BEGIN:VCALENDAR
VERSION:2.0
PRODID:SchoolNow
CALSCALE:GREGORIAN
BEGIN:VEVENT
UID:ffb8ff80-2c67-11f0-83a2-0a58a9feac02
DTSTAMP:20251216T154524Z
SUMMARY:No Student Attendance - Institute Day
URL;VALUE=URI:https://www.cusd201.org/miller/calendar/8093497/no-student-at
 tendance-institute-day
DTSTART;VALUE=DATE:20260227
DTEND;VALUE=DATE:20260228
END:VEVENT
END:VCALENDAR
