BEGIN:VCALENDAR
VERSION:2.0
PRODID:SchoolNow
CALSCALE:GREGORIAN
BEGIN:VEVENT
UID:ffb90386-2c67-11f0-854c-0a58a9feac02
DTSTAMP:20251216T154524Z
SUMMARY:Last Day of School
URL;VALUE=URI:https://www.cusd201.org/miller/calendar/8093501/last-day-of-s
 chool
DTSTART;VALUE=DATE:20260529
DTEND;VALUE=DATE:20260530
END:VEVENT
END:VCALENDAR
