BEGIN:VCALENDAR
VERSION:2.0
PRODID:SchoolNow
CALSCALE:GREGORIAN
BEGIN:VEVENT
UID:ffb90552-2c67-11f0-8e3b-0a58a9feac02
DTSTAMP:20251216T154524Z
SUMMARY:Elementary Grade Level Concert #1
LOCATION:WHS-1-175 - Auditorium (700)
URL;VALUE=URI:https://www.cusd201.org/miller/calendar/8093503/elementary-gr
 ade-level-concert-1
DTSTART:20251121T000000Z
DTEND:20251121T013000Z
END:VEVENT
END:VCALENDAR
