BEGIN:VCALENDAR
VERSION:2.0
PRODID:SchoolNow
CALSCALE:GREGORIAN
BEGIN:VEVENT
UID:ffb90714-2c67-11f0-9400-0a58a9feac02
DTSTAMP:20251216T154524Z
SUMMARY:District 201 Fine Arts Festival
LOCATION:WHS-1-175 - Auditorium (700)\, WHS-1-Commons (500)
URL;VALUE=URI:https://www.cusd201.org/miller/calendar/8093505/district-201-
 fine-arts-festival
DTSTART:20260326T000000Z
DTEND:20260326T020000Z
END:VEVENT
END:VCALENDAR
