BEGIN:VCALENDAR
VERSION:2.0
PRODID:SchoolNow
CALSCALE:GREGORIAN
BEGIN:VEVENT
UID:ffe5608e-2c67-11f0-8ff1-0a58a9feac02
DTSTAMP:20251216T154524Z
SUMMARY:No School - Winter Break
URL;VALUE=URI:https://www.cusd201.org/miller/calendar/8093506/no-school-win
 ter-break
DTSTART;VALUE=DATE:20251222
DTEND;VALUE=DATE:20251223
END:VEVENT
END:VCALENDAR
