BEGIN:VCALENDAR
VERSION:2.0
PRODID:SchoolNow
CALSCALE:GREGORIAN
BEGIN:VEVENT
UID:ffe567f0-2c67-11f0-9ca3-0a58a9feac02
DTSTAMP:20251216T154524Z
SUMMARY:No School - Winter Break
URL;VALUE=URI:https://www.cusd201.org/miller/calendar/8093510/no-school-win
 ter-break
DTSTART;VALUE=DATE:20251226
DTEND;VALUE=DATE:20251227
END:VEVENT
END:VCALENDAR
