BEGIN:VCALENDAR
VERSION:2.0
PRODID:SchoolNow
CALSCALE:GREGORIAN
BEGIN:VEVENT
UID:ffe56b6a-2c67-11f0-b2fd-0a58a9feac02
DTSTAMP:20251216T154524Z
SUMMARY:No School - Winter Break
URL;VALUE=URI:https://www.cusd201.org/miller/calendar/8093513/no-school-win
 ter-break
DTSTART;VALUE=DATE:20251231
DTEND;VALUE=DATE:20260101
END:VEVENT
END:VCALENDAR
