BEGIN:VCALENDAR
VERSION:2.0
PRODID:SchoolNow
CALSCALE:GREGORIAN
BEGIN:VEVENT
UID:ffe56d5e-2c67-11f0-a9fa-0a58a9feac02
DTSTAMP:20251216T154524Z
SUMMARY:No School - Winter Break
URL;VALUE=URI:https://www.cusd201.org/miller/calendar/8093515/no-school-win
 ter-break
DTSTART;VALUE=DATE:20260102
DTEND;VALUE=DATE:20260103
END:VEVENT
END:VCALENDAR
