BEGIN:VCALENDAR
VERSION:2.0
PRODID:SchoolNow
CALSCALE:GREGORIAN
BEGIN:VEVENT
UID:ffe57240-2c67-11f0-a0a4-0a58a9feac02
DTSTAMP:20251216T154524Z
SUMMARY:No School - Spring Break
URL;VALUE=URI:https://www.cusd201.org/miller/calendar/8093520/no-school-spr
 ing-break
DTSTART;VALUE=DATE:20260403
DTEND;VALUE=DATE:20260404
END:VEVENT
END:VCALENDAR
